BEGIN:VCALENDAR
VERSION:2.0
PRODID:-//Nativity School of Worcester - ECPv6.15.12.2//NONSGML v1.0//EN
CALSCALE:GREGORIAN
METHOD:PUBLISH
X-WR-CALNAME:Nativity School of Worcester
X-ORIGINAL-URL:https://nativityworcester.org
X-WR-CALDESC:Events for Nativity School of Worcester
REFRESH-INTERVAL;VALUE=DURATION:PT1H
X-Robots-Tag:noindex
X-PUBLISHED-TTL:PT1H
BEGIN:VTIMEZONE
TZID:America/New_York
BEGIN:DAYLIGHT
TZOFFSETFROM:-0500
TZOFFSETTO:-0400
TZNAME:EDT
DTSTART:20240310T070000
END:DAYLIGHT
BEGIN:STANDARD
TZOFFSETFROM:-0400
TZOFFSETTO:-0500
TZNAME:EST
DTSTART:20241103T060000
END:STANDARD
BEGIN:DAYLIGHT
TZOFFSETFROM:-0500
TZOFFSETTO:-0400
TZNAME:EDT
DTSTART:20250309T070000
END:DAYLIGHT
BEGIN:STANDARD
TZOFFSETFROM:-0400
TZOFFSETTO:-0500
TZNAME:EST
DTSTART:20251102T060000
END:STANDARD
BEGIN:DAYLIGHT
TZOFFSETFROM:-0500
TZOFFSETTO:-0400
TZNAME:EDT
DTSTART:20260308T070000
END:DAYLIGHT
BEGIN:STANDARD
TZOFFSETFROM:-0400
TZOFFSETTO:-0500
TZNAME:EST
DTSTART:20261101T060000
END:STANDARD
BEGIN:DAYLIGHT
TZOFFSETFROM:-0500
TZOFFSETTO:-0400
TZNAME:EDT
DTSTART:20270314T070000
END:DAYLIGHT
BEGIN:STANDARD
TZOFFSETFROM:-0400
TZOFFSETTO:-0500
TZNAME:EST
DTSTART:20271107T060000
END:STANDARD
END:VTIMEZONE
BEGIN:VEVENT
DTSTART;TZID=America/New_York:20260123T000000
DTEND;TZID=America/New_York:20260123T000000
DTSTAMP:20260422T181922
CREATED:20251120T191733Z
LAST-MODIFIED:20251120T192450Z
UID:13132-1769126400-1769126400@nativityworcester.org
SUMMARY:Professional Development Day - No School
DESCRIPTION:School closed for faculty and staff professional development.
URL:https://nativityworcester.org/event/professional-development-day-no-school/
CATEGORIES:Professional Development
END:VEVENT
BEGIN:VEVENT
DTSTART;TZID=America/New_York:20260122T170000
DTEND;TZID=America/New_York:20260122T180000
DTSTAMP:20260422T181922
CREATED:20251120T192449Z
LAST-MODIFIED:20251120T192449Z
UID:13218-1769101200-1769104800@nativityworcester.org
SUMMARY:Awards Ceremony
DESCRIPTION:Recognizing student achievements and excellence.
URL:https://nativityworcester.org/event/awards-ceremony-3/
CATEGORIES:Ceremonies
END:VEVENT
BEGIN:VEVENT
DTSTART;TZID=America/New_York:20260120T000000
DTEND;TZID=America/New_York:20260120T000000
DTSTAMP:20260422T181922
CREATED:20251120T191732Z
LAST-MODIFIED:20251120T192449Z
UID:13130-1768867200-1768867200@nativityworcester.org
SUMMARY:Caregiver/Teacher Conferences (Mandatory)
DESCRIPTION:Mandatory conferences for caregivers and teachers\, come during assign time window.
URL:https://nativityworcester.org/event/caregiver-teacher-conferences-mandatory/
CATEGORIES:Conferences
END:VEVENT
BEGIN:VEVENT
DTSTART;TZID=America/New_York:20260119T000000
DTEND;TZID=America/New_York:20260119T000000
DTSTAMP:20260422T181922
CREATED:20251120T191732Z
LAST-MODIFIED:20251120T192449Z
UID:13129-1768780800-1768780800@nativityworcester.org
SUMMARY:Martin Luther King Jr. Day - No School
DESCRIPTION:School closed in observance of MLK Jr. Day.
URL:https://nativityworcester.org/event/martin-luther-king-jr-day-no-school/
CATEGORIES:Holidays
END:VEVENT
BEGIN:VEVENT
DTSTART;TZID=America/New_York:20260116T000000
DTEND;TZID=America/New_York:20260116T000000
DTSTAMP:20260422T181922
CREATED:20251120T191716Z
LAST-MODIFIED:20251120T192449Z
UID:13128-1768521600-1768521600@nativityworcester.org
SUMMARY:Quarter 2 Report Cards Distributed
DESCRIPTION:Second quarter report cards will be distributed.
URL:https://nativityworcester.org/event/quarter-2-report-cards-distributed/
CATEGORIES:Academic
END:VEVENT
BEGIN:VEVENT
DTSTART;TZID=America/New_York:20260109T000000
DTEND;TZID=America/New_York:20260109T000000
DTSTAMP:20260422T181922
CREATED:20251120T191716Z
LAST-MODIFIED:20251120T192432Z
UID:13127-1767916800-1767916800@nativityworcester.org
SUMMARY:End of Second Quarter
DESCRIPTION:Second quarter of the academic year concludes.
URL:https://nativityworcester.org/event/end-of-second-quarter/
CATEGORIES:Academic
END:VEVENT
BEGIN:VEVENT
DTSTART;TZID=America/New_York:20260108T170000
DTEND;TZID=America/New_York:20260108T183000
DTSTAMP:20260422T181922
CREATED:20251120T192432Z
LAST-MODIFIED:20251120T192432Z
UID:13217-1767891600-1767897000@nativityworcester.org
SUMMARY:7th Grade Family Coffee Night
DESCRIPTION:Coffee and conversation for 7th grade families.
URL:https://nativityworcester.org/event/7th-grade-family-coffee-night-2/
CATEGORIES:Family Events
END:VEVENT
BEGIN:VEVENT
DTSTART;TZID=America/New_York:20260107T000000
DTEND;TZID=America/New_York:20260107T000000
DTSTAMP:20260422T181922
CREATED:20251120T191715Z
LAST-MODIFIED:20251120T192432Z
UID:13125-1767744000-1767744000@nativityworcester.org
SUMMARY:7th Grade Class Retreat
DESCRIPTION:7th grade students participate in class retreat during the school day.
URL:https://nativityworcester.org/event/7th-grade-class-retreat/
CATEGORIES:Retreats
END:VEVENT
BEGIN:VEVENT
DTSTART;TZID=America/New_York:20260105T000000
DTEND;TZID=America/New_York:20260105T000000
DTSTAMP:20260422T181922
CREATED:20251120T191715Z
LAST-MODIFIED:20251120T192432Z
UID:13124-1767571200-1767571200@nativityworcester.org
SUMMARY:School Reopens
DESCRIPTION:Welcome back from winter break!
URL:https://nativityworcester.org/event/school-reopens/
CATEGORIES:School Days
END:VEVENT
BEGIN:VEVENT
DTSTART;TZID=America/New_York:20251222T000000
DTEND;TZID=America/New_York:20251231T000000
DTSTAMP:20260422T181922
CREATED:20251120T192431Z
LAST-MODIFIED:20251120T192431Z
UID:13216-1766361600-1767139200@nativityworcester.org
SUMMARY:Christmas Vacation - No School
DESCRIPTION:School closed for winter break.
URL:https://nativityworcester.org/event/christmas-vacation-no-school-2/
CATEGORIES:Holidays
END:VEVENT
BEGIN:VEVENT
DTSTART;TZID=America/New_York:20251220T000000
DTEND;TZID=America/New_York:20251220T000000
DTSTAMP:20260422T181922
CREATED:20251120T191712Z
LAST-MODIFIED:20251120T192429Z
UID:13117-1766188800-1766188800@nativityworcester.org
SUMMARY:Early Dismissal
DESCRIPTION:School dismisses at 12:00 PM.
URL:https://nativityworcester.org/event/early-dismissal-2/
CATEGORIES:School Days
END:VEVENT
BEGIN:VEVENT
DTSTART;TZID=America/New_York:20251218T170000
DTEND;TZID=America/New_York:20251218T190000
DTSTAMP:20260422T181922
CREATED:20251120T192428Z
LAST-MODIFIED:20251120T192428Z
UID:13215-1766077200-1766084400@nativityworcester.org
SUMMARY:Winter Arts Night
DESCRIPTION:Showcase of student artwork and performances.
URL:https://nativityworcester.org/event/winter-arts-night-2/
CATEGORIES:School Events
END:VEVENT
BEGIN:VEVENT
DTSTART;TZID=America/New_York:20251211T170000
DTEND;TZID=America/New_York:20251211T180000
DTSTAMP:20260422T181922
CREATED:20251120T192428Z
LAST-MODIFIED:20251120T192428Z
UID:13214-1765472400-1765476000@nativityworcester.org
SUMMARY:PTA Meeting
DESCRIPTION:Monthly PTA meeting – all caretakers and families welcome.
URL:https://nativityworcester.org/event/pta-meeting-7/
CATEGORIES:PTA Meetings
END:VEVENT
BEGIN:VEVENT
DTSTART;TZID=America/New_York:20251210T170000
DTEND;TZID=America/New_York:20251210T183000
DTSTAMP:20260422T181922
CREATED:20251120T192428Z
LAST-MODIFIED:20251120T192428Z
UID:13213-1765386000-1765391400@nativityworcester.org
SUMMARY:6th Grade Family Coffee Night
DESCRIPTION:Coffee and conversation for 6th grade families.
URL:https://nativityworcester.org/event/6th-grade-family-coffee-night-2/
CATEGORIES:Family Events
END:VEVENT
BEGIN:VEVENT
DTSTART;TZID=America/New_York:20251210T000000
DTEND;TZID=America/New_York:20251210T000000
DTSTAMP:20260422T181922
CREATED:20251120T191710Z
LAST-MODIFIED:20251120T192428Z
UID:13113-1765324800-1765324800@nativityworcester.org
SUMMARY:6th Grade Class Retreat
DESCRIPTION:6th grade students participate in class retreat during the school day.
URL:https://nativityworcester.org/event/6th-grade-class-retreat/
CATEGORIES:Retreats
END:VEVENT
BEGIN:VEVENT
DTSTART;TZID=America/New_York:20251205T000000
DTEND;TZID=America/New_York:20251205T000000
DTSTAMP:20260422T181922
CREATED:20251120T191709Z
LAST-MODIFIED:20251120T192426Z
UID:13111-1764892800-1764892800@nativityworcester.org
SUMMARY:Mid-Quarter Progress Reports Distributed
DESCRIPTION:Second quarter progress reports will be distributed.
URL:https://nativityworcester.org/event/mid-quarter-progress-reports-distributed/
CATEGORIES:Academic
END:VEVENT
BEGIN:VEVENT
DTSTART;TZID=America/New_York:20251126T000000
DTEND;TZID=America/New_York:20251130T000000
DTSTAMP:20260422T181922
CREATED:20251120T192426Z
LAST-MODIFIED:20251120T192426Z
UID:13212-1764115200-1764460800@nativityworcester.org
SUMMARY:Thanksgiving Break - No School
DESCRIPTION:School closed for Thanksgiving break.
URL:https://nativityworcester.org/event/thanksgiving-break-no-school-2/
CATEGORIES:Holidays
END:VEVENT
BEGIN:VEVENT
DTSTART;TZID=America/New_York:20251125T000000
DTEND;TZID=America/New_York:20251125T000000
DTSTAMP:20260422T181922
CREATED:20251120T191709Z
LAST-MODIFIED:20251120T192426Z
UID:13109-1764028800-1764028800@nativityworcester.org
SUMMARY:Early Dismissal
DESCRIPTION:School dismisses at 12:00 PM.
URL:https://nativityworcester.org/event/early-dismissal/
CATEGORIES:School Days
END:VEVENT
BEGIN:VEVENT
DTSTART;TZID=America/New_York:20251124T170000
DTEND;TZID=America/New_York:20251124T190000
DTSTAMP:20260422T181922
CREATED:20251120T192425Z
LAST-MODIFIED:20251120T192425Z
UID:13211-1764003600-1764010800@nativityworcester.org
SUMMARY:Family Potluck
DESCRIPTION:Community potluck dinner for all families.
URL:https://nativityworcester.org/event/family-potluck/
CATEGORIES:Family Events
END:VEVENT
BEGIN:VEVENT
DTSTART;TZID=America/New_York:20251117T000000
DTEND;TZID=America/New_York:20251117T000000
DTSTAMP:20260422T181922
CREATED:20251120T191709Z
LAST-MODIFIED:20251120T192426Z
UID:13112-1763337600-1763337600@nativityworcester.org
SUMMARY:Applications for Admissions Available
DESCRIPTION:New student admission applications now available.
URL:https://nativityworcester.org/event/applications-for-admissions-available/
CATEGORIES:Administrative
END:VEVENT
END:VCALENDAR