BEGIN:VCALENDAR
VERSION:2.0
PRODID:-//Nativity School of Worcester - ECPv6.15.12.2//NONSGML v1.0//EN
CALSCALE:GREGORIAN
METHOD:PUBLISH
X-WR-CALNAME:Nativity School of Worcester
X-ORIGINAL-URL:https://nativityworcester.org
X-WR-CALDESC:Events for Nativity School of Worcester
REFRESH-INTERVAL;VALUE=DURATION:PT1H
X-Robots-Tag:noindex
X-PUBLISHED-TTL:PT1H
BEGIN:VTIMEZONE
TZID:America/New_York
BEGIN:DAYLIGHT
TZOFFSETFROM:-0500
TZOFFSETTO:-0400
TZNAME:EDT
DTSTART:20250309T070000
END:DAYLIGHT
BEGIN:STANDARD
TZOFFSETFROM:-0400
TZOFFSETTO:-0500
TZNAME:EST
DTSTART:20251102T060000
END:STANDARD
BEGIN:DAYLIGHT
TZOFFSETFROM:-0500
TZOFFSETTO:-0400
TZNAME:EDT
DTSTART:20260308T070000
END:DAYLIGHT
BEGIN:STANDARD
TZOFFSETFROM:-0400
TZOFFSETTO:-0500
TZNAME:EST
DTSTART:20261101T060000
END:STANDARD
BEGIN:DAYLIGHT
TZOFFSETFROM:-0500
TZOFFSETTO:-0400
TZNAME:EDT
DTSTART:20270314T070000
END:DAYLIGHT
BEGIN:STANDARD
TZOFFSETFROM:-0400
TZOFFSETTO:-0500
TZNAME:EST
DTSTART:20271107T060000
END:STANDARD
BEGIN:DAYLIGHT
TZOFFSETFROM:-0500
TZOFFSETTO:-0400
TZNAME:EDT
DTSTART:20280312T070000
END:DAYLIGHT
BEGIN:STANDARD
TZOFFSETFROM:-0400
TZOFFSETTO:-0500
TZNAME:EST
DTSTART:20281105T060000
END:STANDARD
END:VTIMEZONE
BEGIN:VEVENT
DTSTART;TZID=America/New_York:20260528T170000
DTEND;TZID=America/New_York:20260528T183000
DTSTAMP:20260422T181658
CREATED:20251120T192545Z
LAST-MODIFIED:20251120T192546Z
UID:13231-1779987600-1779993000@nativityworcester.org
SUMMARY:Pillar Awards Ceremony
DESCRIPTION:Annual awards ceremony recognizing outstanding students.
URL:https://nativityworcester.org/event/pillar-awards-ceremony-2/
CATEGORIES:Ceremonies
END:VEVENT
BEGIN:VEVENT
DTSTART;TZID=America/New_York:20260529T000000
DTEND;TZID=America/New_York:20260529T000000
DTSTAMP:20260422T181658
CREATED:20251120T191823Z
LAST-MODIFIED:20251120T192548Z
UID:13183-1780012800-1780012800@nativityworcester.org
SUMMARY:Last Day of School - End of Fourth Quarter
DESCRIPTION:Final day of the 2025-2026 academic year.
URL:https://nativityworcester.org/event/last-day-of-school-end-of-fourth-quarter/
CATEGORIES:School Days
END:VEVENT
BEGIN:VEVENT
DTSTART;TZID=America/New_York:20260601T000000
DTEND;TZID=America/New_York:20260603T000000
DTSTAMP:20260422T181658
CREATED:20251120T192548Z
LAST-MODIFIED:20251120T192548Z
UID:13234-1780272000-1780444800@nativityworcester.org
SUMMARY:Kircher Class New York Trip
DESCRIPTION:Graduating class trip to New York City.
URL:https://nativityworcester.org/event/kircher-class-new-york-trip-2/
CATEGORIES:Trips
END:VEVENT
BEGIN:VEVENT
DTSTART;TZID=America/New_York:20260605T180000
DTEND;TZID=America/New_York:20260605T200000
DTSTAMP:20260422T181658
CREATED:20251120T192548Z
LAST-MODIFIED:20251120T192548Z
UID:13235-1780682400-1780689600@nativityworcester.org
SUMMARY:Kircher Class Graduation
DESCRIPTION:Graduation ceremony for the Class of 2026.
URL:https://nativityworcester.org/event/kircher-class-graduation-2/
CATEGORIES:Graduation
END:VEVENT
BEGIN:VEVENT
DTSTART;TZID=America/New_York:20260608T000000
DTEND;TZID=America/New_York:20260608T000000
DTSTAMP:20260422T181658
CREATED:20251120T191840Z
LAST-MODIFIED:20251120T192549Z
UID:13186-1780876800-1780876800@nativityworcester.org
SUMMARY:End-of-Year Faculty Meeting
DESCRIPTION:Faculty wrap-up meeting for the academic year.
URL:https://nativityworcester.org/event/end-of-year-faculty-meeting/
CATEGORIES:Administrative
END:VEVENT
BEGIN:VEVENT
DTSTART;TZID=America/New_York:20260706T000000
DTEND;TZID=America/New_York:20260724T000000
DTSTAMP:20260422T181658
CREATED:20251120T192549Z
LAST-MODIFIED:20251120T192549Z
UID:13236-1783296000-1784851200@nativityworcester.org
SUMMARY:Summer of Service
DESCRIPTION:Mandatory summer program for all students.
URL:https://nativityworcester.org/event/summer-of-service-3/
CATEGORIES:Summer Programs
END:VEVENT
BEGIN:VEVENT
DTSTART;TZID=America/New_York:20270706T000000
DTEND;TZID=America/New_York:20270723T000000
DTSTAMP:20260422T181658
CREATED:20251120T192605Z
LAST-MODIFIED:20251120T192605Z
UID:13237-1814832000-1816300800@nativityworcester.org
SUMMARY:Summer of Service
DESCRIPTION:Mandatory summer program for all students.
URL:https://nativityworcester.org/event/summer-of-service-4/
CATEGORIES:Summer Programs
END:VEVENT
END:VCALENDAR