BEGIN:VCALENDAR
VERSION:2.0
PRODID:-//Nativity School of Worcester - ECPv6.15.12.2//NONSGML v1.0//EN
CALSCALE:GREGORIAN
METHOD:PUBLISH
X-ORIGINAL-URL:https://nativityworcester.org
X-WR-CALDESC:Events for Nativity School of Worcester
REFRESH-INTERVAL;VALUE=DURATION:PT1H
X-Robots-Tag:noindex
X-PUBLISHED-TTL:PT1H
BEGIN:VTIMEZONE
TZID:America/New_York
BEGIN:DAYLIGHT
TZOFFSETFROM:-0500
TZOFFSETTO:-0400
TZNAME:EDT
DTSTART:20250309T070000
END:DAYLIGHT
BEGIN:STANDARD
TZOFFSETFROM:-0400
TZOFFSETTO:-0500
TZNAME:EST
DTSTART:20251102T060000
END:STANDARD
BEGIN:DAYLIGHT
TZOFFSETFROM:-0500
TZOFFSETTO:-0400
TZNAME:EDT
DTSTART:20260308T070000
END:DAYLIGHT
BEGIN:STANDARD
TZOFFSETFROM:-0400
TZOFFSETTO:-0500
TZNAME:EST
DTSTART:20261101T060000
END:STANDARD
BEGIN:DAYLIGHT
TZOFFSETFROM:-0500
TZOFFSETTO:-0400
TZNAME:EDT
DTSTART:20270314T070000
END:DAYLIGHT
BEGIN:STANDARD
TZOFFSETFROM:-0400
TZOFFSETTO:-0500
TZNAME:EST
DTSTART:20271107T060000
END:STANDARD
END:VTIMEZONE
BEGIN:VEVENT
DTSTART;TZID=America/New_York:20260507T170000
DTEND;TZID=America/New_York:20260507T180000
DTSTAMP:20260422T105601
CREATED:20251120T192527Z
LAST-MODIFIED:20251120T192527Z
UID:13228-1778173200-1778176800@nativityworcester.org
SUMMARY:PTA Meeting
DESCRIPTION:Monthly PTA meeting – all families and caretakers welcome.
URL:https://nativityworcester.org/event/pta-meeting-12/
CATEGORIES:PTA Meetings
END:VEVENT
BEGIN:VEVENT
DTSTART;TZID=America/New_York:20260513T000000
DTEND;TZID=America/New_York:20260513T000000
DTSTAMP:20260422T105601
CREATED:20251120T191820Z
LAST-MODIFIED:20251120T192527Z
UID:13176-1778630400-1778630400@nativityworcester.org
SUMMARY:Kircher Class Retreat
DESCRIPTION:Kircher class (graduating 8th graders) retreat during the school day.
URL:https://nativityworcester.org/event/kircher-class-retreat/
CATEGORIES:Retreats
END:VEVENT
BEGIN:VEVENT
DTSTART;TZID=America/New_York:20260514T170000
DTEND;TZID=America/New_York:20260514T180000
DTSTAMP:20260422T105601
CREATED:20251120T192527Z
LAST-MODIFIED:20251120T192527Z
UID:13229-1778778000-1778781600@nativityworcester.org
SUMMARY:High School Transition - Kircher Family Coffee
DESCRIPTION:Information session for graduating students and families.
URL:https://nativityworcester.org/event/high-school-transition-kircher-family-coffee-2/
CATEGORIES:Family Events
END:VEVENT
BEGIN:VEVENT
DTSTART;TZID=America/New_York:20260521T170000
DTEND;TZID=America/New_York:20260521T190000
DTSTAMP:20260422T105601
CREATED:20251120T192544Z
LAST-MODIFIED:20251120T192546Z
UID:13230-1779382800-1779390000@nativityworcester.org
SUMMARY:Spring Arts Night
DESCRIPTION:Showcase of student artwork and performances.
URL:https://nativityworcester.org/event/spring-arts-night-2/
CATEGORIES:School Events
END:VEVENT
BEGIN:VEVENT
DTSTART;TZID=America/New_York:20260522T000000
DTEND;TZID=America/New_York:20260522T000000
DTSTAMP:20260422T105601
CREATED:20251120T191822Z
LAST-MODIFIED:20251120T192546Z
UID:13179-1779408000-1779408000@nativityworcester.org
SUMMARY:Nativity Worcester Day of Service
DESCRIPTION:School-wide day of community service.
URL:https://nativityworcester.org/event/nativity-worcester-day-of-service/
CATEGORIES:Service
END:VEVENT
BEGIN:VEVENT
DTSTART;TZID=America/New_York:20260525T000000
DTEND;TZID=America/New_York:20260525T000000
DTSTAMP:20260422T105601
CREATED:20251120T191823Z
LAST-MODIFIED:20251120T192546Z
UID:13180-1779667200-1779667200@nativityworcester.org
SUMMARY:Memorial Day - No School
DESCRIPTION:School closed in observance of Memorial Day.
URL:https://nativityworcester.org/event/memorial-day-no-school/
CATEGORIES:Holidays
END:VEVENT
BEGIN:VEVENT
DTSTART;TZID=America/New_York:20260528T000000
DTEND;TZID=America/New_York:20260528T000000
DTSTAMP:20260422T105601
CREATED:20251120T191823Z
LAST-MODIFIED:20251120T192546Z
UID:13181-1779926400-1779926400@nativityworcester.org
SUMMARY:Graduate Day Celebration
DESCRIPTION:Celebrating our graduating 8th grade class. Noon dismissal.
URL:https://nativityworcester.org/event/graduate-day-celebration/
CATEGORIES:School Events
END:VEVENT
BEGIN:VEVENT
DTSTART;TZID=America/New_York:20260528T170000
DTEND;TZID=America/New_York:20260528T183000
DTSTAMP:20260422T105601
CREATED:20251120T192545Z
LAST-MODIFIED:20251120T192546Z
UID:13231-1779987600-1779993000@nativityworcester.org
SUMMARY:Pillar Awards Ceremony
DESCRIPTION:Annual awards ceremony recognizing outstanding students.
URL:https://nativityworcester.org/event/pillar-awards-ceremony-2/
CATEGORIES:Ceremonies
END:VEVENT
BEGIN:VEVENT
DTSTART;TZID=America/New_York:20260529T000000
DTEND;TZID=America/New_York:20260529T000000
DTSTAMP:20260422T105601
CREATED:20251120T191823Z
LAST-MODIFIED:20251120T192548Z
UID:13183-1780012800-1780012800@nativityworcester.org
SUMMARY:Last Day of School - End of Fourth Quarter
DESCRIPTION:Final day of the 2025-2026 academic year.
URL:https://nativityworcester.org/event/last-day-of-school-end-of-fourth-quarter/
CATEGORIES:School Days
END:VEVENT
END:VCALENDAR